BEGIN:VCALENDAR
VERSION:2.0
PRODID: -//CMS 5.0 //NONSGML //DE
BEGIN:VEVENT
SUMMARY:Gottesdienst
DESCRIPTION:<p>Die Gemeinde Lampertheim feiert den Gottesdienst in der G
 emeinde Mannheim- Sandhofen.</p>\n
UID:359847@www.nak-mannheim-weinheim.de
LOCATION:
CATEGORIES:Bezirk (ohne Gemeinden),Hockenheim,Wald-Michelbach,Gottesdienst,Mannheim-Moselstraße,Viernheim,Mannheim-Sandhofen,Mannheim-Gartenstadt,Mannheim-Rheinau,Heppenheim,Lampertheim,Ladenburg,Weinheim
X-ORGANIZER:
STATUS:CONFIRMED
CLASS:PUBLIC
DTSTART:20260329T073000Z
DTEND:20260329T073000Z
DTSTAMP:20260424T144315Z
CREATED:20260224T063338Z
LAST-MODIFIED:20260226T070459Z
END:VEVENT
BEGIN:VEVENT
SUMMARY:Gottesdienst
DESCRIPTION:<p>Die Gemeinde Mannheim-Sandhofen feiert den Gottesdienst i
 n der Gemeinde Mannheim-Gartenstadt.</p>\n\n<p>Die Gemeinde Wald-Michel
 bach feiert den Gottesdienst in der Gemeinde Heppenheim.</p>\n\n<p>&nbs
 p;</p>\n\n<p>&nbsp;</p>\n
UID:359851@www.nak-mannheim-weinheim.de
LOCATION:
CATEGORIES:Wald-Michelbach,Gottesdienst,Mannheim-Moselstraße,Viernheim,Bezirk (ohne Gemeinden),Weinheim,Ladenburg,Heppenheim
X-ORGANIZER:
STATUS:CONFIRMED
CLASS:PUBLIC
DTSTART:20260325T190000Z
DTEND:20260325T190000Z
DTSTAMP:20260424T144315Z
CREATED:20260224T063715Z
LAST-MODIFIED:20260226T070259Z
END:VEVENT
BEGIN:VEVENT
SUMMARY:Gottesdienst mit Bischof
DESCRIPTION:<p>Die Gemeinde Mannheim-Rheinau feiert den Gottesdienst in 
 Hockenheim.</p>\n
UID:359855@www.nak-mannheim-weinheim.de
LOCATION:Hockenheim
CATEGORIES:Bezirk (ohne Gemeinden),Hockenheim,Gottesdienst,Mannheim-Rheinau
X-ORGANIZER:
STATUS:CONFIRMED
CLASS:PUBLIC
DTSTART:20260326T190000Z
DTEND:20260326T190000Z
DTSTAMP:20260424T144315Z
CREATED:20260224T063951Z
LAST-MODIFIED:20260226T070338Z
END:VEVENT
BEGIN:VEVENT
SUMMARY:Gottesdienst am Karfreitag
DESCRIPTION:
UID:362452@www.nak-mannheim-weinheim.de
LOCATION:
CATEGORIES:Mannheim-Sandhofen,Hockenheim,Bezirk (ohne Gemeinden),Viernheim,Mannheim-Moselstraße,Wald-Michelbach,Gottesdienst,Ladenburg,Weinheim,Heppenheim,Mannheim-Rheinau,Mannheim-Gartenstadt,Lampertheim
X-ORGANIZER:
STATUS:CONFIRMED
CLASS:PUBLIC
DTSTART:20260403T073000Z
DTEND:20260403T073000Z
DTSTAMP:20260424T144315Z
CREATED:20260328T184050Z
LAST-MODIFIED:20260328T184346Z
END:VEVENT
BEGIN:VEVENT
SUMMARY:Gottesdienst zum Osterfest mit dem Bezirksapostel (Bildübertrag
 ung)
DESCRIPTION:<p>Bildübertragung aus Kempten-Süd</p>\n
UID:362454@www.nak-mannheim-weinheim.de
LOCATION:
CATEGORIES:Ladenburg,Weinheim,Heppenheim,Mannheim-Rheinau,Mannheim-Gartenstadt,Lampertheim,Mannheim-Sandhofen,Bezirk (ohne Gemeinden),Hockenheim,Gottesdienst,Wald-Michelbach,Mannheim-Moselstraße,Viernheim
X-ORGANIZER:
STATUS:CONFIRMED
CLASS:PUBLIC
DTSTART:20260405T080000Z
DTEND:20260405T080000Z
DTSTAMP:20260424T144315Z
CREATED:20260328T184405Z
LAST-MODIFIED:20260328T184727Z
END:VEVENT
BEGIN:VEVENT
SUMMARY:Gottesdienst
DESCRIPTION:<p>Die Gemeinde Mannheim-Sandhofen&nbsp;feiert den Gottesdie
 nst in der Gemeinde Mannheim-Gartenstadt.</p>\n\n<p>Die Gemeinde Wald-M
 ichelbach&nbsp;feiert den Gottesdienst in der Gemeinde Heppenheim.</p>\
 n\n<p>&nbsp;</p>\n
UID:362457@www.nak-mannheim-weinheim.de
LOCATION:
CATEGORIES:Ladenburg,Weinheim,Mannheim-Rheinau,Heppenheim,Mannheim-Gartenstadt,Lampertheim,Mannheim-Sandhofen,Bezirk (ohne Gemeinden),Mannheim-Moselstraße,Wald-Michelbach,Gottesdienst,Viernheim
X-ORGANIZER:
STATUS:CONFIRMED
CLASS:PUBLIC
DTSTART:20260408T180000Z
DTEND:20260408T180000Z
DTSTAMP:20260424T144315Z
CREATED:20260328T184925Z
LAST-MODIFIED:20260328T185200Z
END:VEVENT
BEGIN:VEVENT
SUMMARY:Gottesdienst
DESCRIPTION:
UID:362459@www.nak-mannheim-weinheim.de
LOCATION:Hockenheim
CATEGORIES:Hockenheim,Bezirk (ohne Gemeinden),Gottesdienst
X-ORGANIZER:
STATUS:CONFIRMED
CLASS:PUBLIC
DTSTART:20260409T180000Z
DTEND:20260409T180000Z
DTSTAMP:20260424T144315Z
CREATED:20260328T185249Z
LAST-MODIFIED:20260328T185320Z
END:VEVENT
BEGIN:VEVENT
SUMMARY:Gottesdienst
DESCRIPTION:<p>Die Gemeinde Mannheim-Gartenstadt&nbsp;feiert den Gottesd
 ienst in der Gemeinde Mannheim-Rheinau.</p>\n
UID:362461@www.nak-mannheim-weinheim.de
LOCATION:
CATEGORIES:Mannheim-Sandhofen,Hockenheim,Bezirk (ohne Gemeinden),Mannheim-Moselstraße,Wald-Michelbach,Gottesdienst,Viernheim,Ladenburg,Weinheim,Mannheim-Rheinau,Heppenheim,Mannheim-Gartenstadt,Lampertheim
X-ORGANIZER:
STATUS:CONFIRMED
CLASS:PUBLIC
DTSTART:20260412T073000Z
DTEND:20260412T073000Z
DTSTAMP:20260424T144315Z
CREATED:20260328T185437Z
LAST-MODIFIED:20260328T185538Z
END:VEVENT
BEGIN:VEVENT
SUMMARY:Gottesdienst
DESCRIPTION:<p>Die Gemeinde Wald-Michelbach&nbsp;feiert den Gottesdienst
  in der Gemeinde Heppenheim.</p>\n\n<p>&nbsp;</p>\n
UID:362465@www.nak-mannheim-weinheim.de
LOCATION:
CATEGORIES:Heppenheim,Mannheim-Rheinau,Mannheim-Gartenstadt,Lampertheim,Ladenburg,Weinheim,Bezirk (ohne Gemeinden),Viernheim,Wald-Michelbach,Gottesdienst,Mannheim-Moselstraße,Mannheim-Sandhofen
X-ORGANIZER:
STATUS:CONFIRMED
CLASS:PUBLIC
DTSTART:20260415T180000Z
DTEND:20260415T180000Z
DTSTAMP:20260424T144315Z
CREATED:20260328T185710Z
LAST-MODIFIED:20260328T185751Z
END:VEVENT
BEGIN:VEVENT
SUMMARY:Gottesdienst
DESCRIPTION:
UID:362466@www.nak-mannheim-weinheim.de
LOCATION:Hockenheim
CATEGORIES:Bezirk (ohne Gemeinden),Hockenheim,Gottesdienst
X-ORGANIZER:
STATUS:CONFIRMED
CLASS:PUBLIC
DTSTART:20260416T180000Z
DTEND:20260416T180000Z
DTSTAMP:20260424T144315Z
CREATED:20260328T185815Z
LAST-MODIFIED:20260328T185830Z
END:VEVENT
BEGIN:VEVENT
SUMMARY:Gottesdienst
DESCRIPTION:<p>Die Gemeinden Mannheim-Gartenstadt und Lampertheim&nbsp;f
 eiern den Gottesdienst in der Gemeinde Mannheim-Sandhofen.</p>\n\n<p>Di
 e Gemeinde Wald-Michelbach&nbsp;feiert den Gottesdienst in der Gemeinde
  Heppenheim.</p>\n\n<p>&nbsp;</p>\n
UID:362467@www.nak-mannheim-weinheim.de
LOCATION:
CATEGORIES:Weinheim,Ladenburg,Lampertheim,Mannheim-Gartenstadt,Mannheim-Rheinau,Heppenheim,Mannheim-Sandhofen,Mannheim-Moselstraße,Wald-Michelbach,Gottesdienst,Viernheim,Bezirk (ohne Gemeinden)
X-ORGANIZER:
STATUS:CONFIRMED
CLASS:PUBLIC
DTSTART:20260422T180000Z
DTEND:20260422T180000Z
DTSTAMP:20260424T144315Z
CREATED:20260328T185912Z
LAST-MODIFIED:20260328T190035Z
END:VEVENT
BEGIN:VEVENT
SUMMARY:Gottesdienst
DESCRIPTION:
UID:362468@www.nak-mannheim-weinheim.de
LOCATION:Hockenheim
CATEGORIES:Gottesdienst,Bezirk (ohne Gemeinden),Hockenheim
X-ORGANIZER:
STATUS:CONFIRMED
CLASS:PUBLIC
DTSTART:20260423T180000Z
DTEND:20260423T180000Z
DTSTAMP:20260424T144315Z
CREATED:20260328T190050Z
LAST-MODIFIED:20260328T190106Z
END:VEVENT
BEGIN:VEVENT
SUMMARY:Gottesdienst
DESCRIPTION:
UID:362469@www.nak-mannheim-weinheim.de
LOCATION:Hockenheim
CATEGORIES:Hockenheim,Bezirk (ohne Gemeinden),Gottesdienst
X-ORGANIZER:
STATUS:CONFIRMED
CLASS:PUBLIC
DTSTART:20260430T180000Z
DTEND:20260430T180000Z
DTSTAMP:20260424T144315Z
CREATED:20260328T190148Z
LAST-MODIFIED:20260328T190200Z
END:VEVENT
BEGIN:VEVENT
SUMMARY:Gottesdienst
DESCRIPTION:<p>Die Gemeinde Wald-Michelbach&nbsp;feiert den Gottesdienst
  in der Gemeinde Heppenheim.</p>\n\n<p>&nbsp;</p>\n
UID:362471@www.nak-mannheim-weinheim.de
LOCATION:
CATEGORIES:Mannheim-Sandhofen,Bezirk (ohne Gemeinden),Viernheim,Mannheim-Moselstraße,Gottesdienst,Wald-Michelbach,Ladenburg,Weinheim,Mannheim-Rheinau,Mannheim-Gartenstadt,Heppenheim,Lampertheim
X-ORGANIZER:
STATUS:CONFIRMED
CLASS:PUBLIC
DTSTART:20260429T180000Z
DTEND:20260429T180000Z
DTSTAMP:20260424T144315Z
CREATED:20260328T190214Z
LAST-MODIFIED:20260328T190234Z
END:VEVENT
BEGIN:VEVENT
SUMMARY:Gottesdienst mit Apostel
DESCRIPTION:
UID:362474@www.nak-mannheim-weinheim.de
LOCATION: Mannheim-Moselstraße
CATEGORIES:Lampertheim,Mannheim-Rheinau,Mannheim-Gartenstadt,Heppenheim,Weinheim,Ladenburg,Viernheim,Mannheim-Moselstraße,Gottesdienst,Wald-Michelbach,Hockenheim,Bezirk (ohne Gemeinden),Mannheim-Sandhofen
X-ORGANIZER:
STATUS:CONFIRMED
CLASS:PUBLIC
DTSTART:20260419T073000Z
DTEND:20260419T073000Z
DTSTAMP:20260424T144315Z
CREATED:20260328T190351Z
LAST-MODIFIED:20260328T191025Z
END:VEVENT
BEGIN:VEVENT
SUMMARY:Gottesdienst
DESCRIPTION:<p>Die Gemeinden Heppenheim und&nbsp;Wald-Michelbach feiern 
 den Gottesdienst in der Gemeinde Weinheim.</p>\n\n<p>Die Gemeinde Lampe
 rtheim feiert den Gottesdienst in der Gemeinde&nbsp;Sandhofen.</p>\n
UID:362482@www.nak-mannheim-weinheim.de
LOCATION:
CATEGORIES:Mannheim-Sandhofen,Viernheim,Gottesdienst,Wald-Michelbach,Mannheim-Moselstraße,Bezirk (ohne Gemeinden),Hockenheim,Weinheim,Ladenburg,Lampertheim,Mannheim-Rheinau,Mannheim-Gartenstadt,Heppenheim
X-ORGANIZER:
STATUS:CONFIRMED
CLASS:PUBLIC
DTSTART:20260426T073000Z
DTEND:20260426T073000Z
DTSTAMP:20260424T144315Z
CREATED:20260328T191047Z
LAST-MODIFIED:20260328T191641Z
END:VEVENT
BEGIN:VEVENT
SUMMARY:Jugendgottesdienst
DESCRIPTION:
UID:362489@www.nak-mannheim-weinheim.de
LOCATION:Lampertheim 
CATEGORIES:Lampertheim,Gottesdienst,Bezirk (ohne Gemeinden),Jugend
X-ORGANIZER:
STATUS:CONFIRMED
CLASS:PUBLIC
DTSTART:20260426T080000Z
DTEND:20260426T080000Z
DTSTAMP:20260424T144315Z
CREATED:20260328T191712Z
LAST-MODIFIED:20260328T191804Z
END:VEVENT
BEGIN:VEVENT
SUMMARY:Glauensgespräch Thema "Passionszeit und Ostergeschehen"
DESCRIPTION:<p>Am Mittwoch, den 1. April 2026 findet in den Räumen der 
 Neuapostolischen Kirche&nbsp;in Ladenburg ein Glaubensgspräch zum Them
 a "Passionszeit und Ostergeschehen" statt. Alle Interessierten sind her
 zlich eingeladen.</p>\n
UID:362633@www.nak-mannheim-weinheim.de
LOCATION:Ladenburg
CATEGORIES:Archiv,Bezirk (und alle Gemeinden)
X-ORGANIZER:
STATUS:CONFIRMED
CLASS:PUBLIC
DTSTART:20260401T173000Z
DTEND:20260401T173000Z
DTSTAMP:20260424T144315Z
CREATED:20260330T051724Z
LAST-MODIFIED:20260330T052223Z
END:VEVENT
BEGIN:VEVENT
SUMMARY:Gottesdienst
DESCRIPTION:
UID:364127@www.nak-mannheim-weinheim.de
LOCATION:Hockenheim
CATEGORIES:Hockenheim,Bezirk (ohne Gemeinden),Gottesdienst
X-ORGANIZER:
STATUS:CONFIRMED
CLASS:PUBLIC
DTSTART:20260507T180000Z
DTEND:20260507T180000Z
DTSTAMP:20260424T144315Z
CREATED:20260423T051503Z
LAST-MODIFIED:20260423T160104Z
END:VEVENT
BEGIN:VEVENT
SUMMARY:Gottesdienst
DESCRIPTION:
UID:364129@www.nak-mannheim-weinheim.de
LOCATION:Hockenheim
CATEGORIES:Bezirk (ohne Gemeinden),Hockenheim,Gottesdienst
X-ORGANIZER:
STATUS:CONFIRMED
CLASS:PUBLIC
DTSTART:20260521T180000Z
DTEND:20260521T180000Z
DTSTAMP:20260424T144315Z
CREATED:20260423T051648Z
LAST-MODIFIED:20260423T161012Z
END:VEVENT
BEGIN:VEVENT
SUMMARY:Gottesdienst
DESCRIPTION:
UID:364130@www.nak-mannheim-weinheim.de
LOCATION:Hockenheim
CATEGORIES:Bezirk (ohne Gemeinden),Hockenheim,Gottesdienst
X-ORGANIZER:
STATUS:CONFIRMED
CLASS:PUBLIC
DTSTART:20260528T180000Z
DTEND:20260528T180000Z
DTSTAMP:20260424T144315Z
CREATED:20260423T051722Z
LAST-MODIFIED:20260423T162102Z
END:VEVENT
BEGIN:VEVENT
SUMMARY:Gottesdienst
DESCRIPTION:<p>Die Gemeinde Wald-Michelbach&nbsp;feiert den Gottesdienst
  in der Gemeinde Heppenheim.</p>\n\n<p>Die Gemeinde Mannheim-Gartenstad
 t feiert den Gottesdienst in der Gemeinde Mannheim-Sandhofen.</p>\n\n<p
 >&nbsp;</p>\n
UID:364131@www.nak-mannheim-weinheim.de
LOCATION:
CATEGORIES:Mannheim-Sandhofen,Bezirk (ohne Gemeinden),Viernheim,Gottesdienst,Wald-Michelbach,Mannheim-Moselstraße,Ladenburg,Weinheim,Mannheim-Gartenstadt,Mannheim-Rheinau,Heppenheim,Lampertheim
X-ORGANIZER:
STATUS:CONFIRMED
CLASS:PUBLIC
DTSTART:20260506T180000Z
DTEND:20260506T180000Z
DTSTAMP:20260424T144315Z
CREATED:20260423T051850Z
LAST-MODIFIED:20260423T160031Z
END:VEVENT
BEGIN:VEVENT
SUMMARY:Gottesdienst Christi Himmelfahrt
DESCRIPTION:<p>&nbsp;</p>\n\n<p>&nbsp;</p>\n
UID:364132@www.nak-mannheim-weinheim.de
LOCATION:
CATEGORIES:Ladenburg,Weinheim,Mannheim-Rheinau,Mannheim-Gartenstadt,Heppenheim,Lampertheim,Mannheim-Sandhofen,Hockenheim,Bezirk (ohne Gemeinden),Mannheim-Moselstraße,Gottesdienst,Wald-Michelbach,Viernheim
X-ORGANIZER:
STATUS:CONFIRMED
CLASS:PUBLIC
DTSTART:20260514T073000Z
DTEND:20260514T073000Z
DTSTAMP:20260424T144315Z
CREATED:20260423T051949Z
LAST-MODIFIED:20260423T160258Z
END:VEVENT
BEGIN:VEVENT
SUMMARY:Gottesdienst
DESCRIPTION:<p>Die Gemeinde Mannheim-Sandhofen feiert den Gottesdienst i
 n der Gemeinde Mannheim-Gartenstadt.</p>\n\n<p>&nbsp;</p>\n
UID:364133@www.nak-mannheim-weinheim.de
LOCATION:
CATEGORIES:Mannheim-Sandhofen,Bezirk (ohne Gemeinden),Viernheim,Mannheim-Moselstraße,Gottesdienst,Mannheim-Rheinau,Mannheim-Gartenstadt,Lampertheim
X-ORGANIZER:
STATUS:CONFIRMED
CLASS:PUBLIC
DTSTART:20260520T180000Z
DTEND:20260520T180000Z
DTSTAMP:20260424T144315Z
CREATED:20260423T052110Z
LAST-MODIFIED:20260423T162411Z
END:VEVENT
BEGIN:VEVENT
SUMMARY:Gottesdienst
DESCRIPTION:<p>Die Gemeinde Wald-Michelbach&nbsp;feiert den Gottesdienst
  in der Gemeinde Heppenheim.</p>\n\n<p>Die Gemeinde Mannheim-Gartenstad
 t feiert den Gottesdienst in der Gemeinde Mannheim-Sandhofen.</p>\n\n<p
 >&nbsp;</p>\n
UID:364134@www.nak-mannheim-weinheim.de
LOCATION:
CATEGORIES:Weinheim,Ladenburg,Lampertheim,Mannheim-Gartenstadt,Mannheim-Rheinau,Heppenheim,Mannheim-Sandhofen,Viernheim,Gottesdienst,Wald-Michelbach,Mannheim-Moselstraße,Bezirk (ohne Gemeinden)
X-ORGANIZER:
STATUS:CONFIRMED
CLASS:PUBLIC
DTSTART:20260527T180000Z
DTEND:20260527T180000Z
DTSTAMP:20260424T144315Z
CREATED:20260423T052142Z
LAST-MODIFIED:20260423T162006Z
END:VEVENT
BEGIN:VEVENT
SUMMARY:Gottesdienst
DESCRIPTION:
UID:364135@www.nak-mannheim-weinheim.de
LOCATION:
CATEGORIES:Gottesdienst,Wald-Michelbach,Mannheim-Moselstraße,Viernheim,Bezirk (ohne Gemeinden),Hockenheim,Mannheim-Sandhofen,Lampertheim,Heppenheim,Mannheim-Rheinau,Mannheim-Gartenstadt,Weinheim,Ladenburg
X-ORGANIZER:
STATUS:CONFIRMED
CLASS:PUBLIC
DTSTART:20260503T073000Z
DTEND:20260503T073000Z
DTSTAMP:20260424T144315Z
CREATED:20260423T052255Z
LAST-MODIFIED:20260423T155945Z
END:VEVENT
BEGIN:VEVENT
SUMMARY:Gottesdienst
DESCRIPTION:
UID:364136@www.nak-mannheim-weinheim.de
LOCATION:
CATEGORIES:Mannheim-Rheinau,Mannheim-Gartenstadt,Heppenheim,Lampertheim,Ladenburg,Weinheim,Bezirk (ohne Gemeinden),Hockenheim,Wald-Michelbach,Gottesdienst,Mannheim-Moselstraße,Viernheim,Mannheim-Sandhofen
X-ORGANIZER:
STATUS:CONFIRMED
CLASS:PUBLIC
DTSTART:20260510T073000Z
DTEND:20260510T073000Z
DTSTAMP:20260424T144315Z
CREATED:20260423T052334Z
LAST-MODIFIED:20260423T160214Z
END:VEVENT
BEGIN:VEVENT
SUMMARY:Gottesdienst
DESCRIPTION:<p>Die Gemeinde Weinheim feiert den Gottesdienst in der Geme
 inde Ladenburg.</p>\n
UID:364137@www.nak-mannheim-weinheim.de
LOCATION:
CATEGORIES:Viernheim,Gottesdienst,Wald-Michelbach,Mannheim-Moselstraße,Bezirk (ohne Gemeinden),Hockenheim,Mannheim-Sandhofen,Lampertheim,Heppenheim,Mannheim-Rheinau,Mannheim-Gartenstadt,Weinheim,Ladenburg
X-ORGANIZER:
STATUS:CONFIRMED
CLASS:PUBLIC
DTSTART:20260517T073000Z
DTEND:20260517T073000Z
DTSTAMP:20260424T144315Z
CREATED:20260423T052431Z
LAST-MODIFIED:20260423T160428Z
END:VEVENT
BEGIN:VEVENT
SUMMARY:Gottesdienst zu Pfingsten mit Stammapostel
DESCRIPTION:<p>Der Gottesdienst wird in alle Gemeinden des Bezirks mit B
 ild und Ton übertragen.</p>\n
UID:364138@www.nak-mannheim-weinheim.de
LOCATION:Kapstadt
CATEGORIES:Ladenburg,Weinheim,Heppenheim,Mannheim-Rheinau,Mannheim-Gartenstadt,Lampertheim,Mannheim-Sandhofen,Hockenheim,Bezirk (ohne Gemeinden),Mannheim-Moselstraße,Gottesdienst,Wald-Michelbach,Viernheim
X-ORGANIZER:
STATUS:CONFIRMED
CLASS:PUBLIC
DTSTART:20260524T080000Z
DTEND:20260524T080000Z
DTSTAMP:20260424T144315Z
CREATED:20260423T052457Z
LAST-MODIFIED:20260423T161823Z
END:VEVENT
BEGIN:VEVENT
SUMMARY:Gottesdienst
DESCRIPTION:
UID:364139@www.nak-mannheim-weinheim.de
LOCATION:
CATEGORIES:Ladenburg,Weinheim,Mannheim-Gartenstadt,Mannheim-Rheinau,Heppenheim,Lampertheim,Mannheim-Sandhofen,Bezirk (ohne Gemeinden),Hockenheim,Viernheim,Wald-Michelbach,Gottesdienst,Mannheim-Moselstraße
X-ORGANIZER:
STATUS:CONFIRMED
CLASS:PUBLIC
DTSTART:20260531T073000Z
DTEND:20260531T073000Z
DTSTAMP:20260424T144315Z
CREATED:20260423T052528Z
LAST-MODIFIED:20260423T162143Z
END:VEVENT
BEGIN:VEVENT
SUMMARY:Gottesdienst für Jugendliche
DESCRIPTION:
UID:364140@www.nak-mannheim-weinheim.de
LOCATION:Weinheim
CATEGORIES:Gottesdienst,Bezirk (ohne Gemeinden),Jugend,Weinheim
X-ORGANIZER:
STATUS:CONFIRMED
CLASS:PUBLIC
DTSTART:20260517T080000Z
DTEND:20260517T080000Z
DTSTAMP:20260424T144315Z
CREATED:20260423T053014Z
LAST-MODIFIED:20260423T160528Z
END:VEVENT
BEGIN:VEVENT
SUMMARY:Trauergesprächskreis 
DESCRIPTION:<p>Der Trauergesprächskreis findet in der Kirche Wiesloch, 
 Alte Heerstraße 11,&nbsp;statt.</p>\n
UID:364141@www.nak-mannheim-weinheim.de
LOCATION:Wiesloch
CATEGORIES:Bezirk (und alle Gemeinden)
X-ORGANIZER:
STATUS:CONFIRMED
CLASS:PUBLIC
DTSTART:20260515T153000Z
DTEND:20260515T153000Z
DTSTAMP:20260424T144315Z
CREATED:20260423T053736Z
LAST-MODIFIED:20260423T053820Z
END:VEVENT
BEGIN:VEVENT
SUMMARY:Gottesdienst mit Apostel
DESCRIPTION:<p>Die Gemeinden Heppenheim, Ladenburg und&nbsp;Wald-Michelb
 ach&nbsp;feiern den Gottesdienst in der Gemeinde Weinheim.</p>\n\n<p>&n
 bsp;</p>\n\n<p>&nbsp;</p>\n
UID:364194@www.nak-mannheim-weinheim.de
LOCATION:Weinheim
CATEGORIES:Weinheim,Ladenburg,Heppenheim,Wald-Michelbach,Gottesdienst,Bezirk (ohne Gemeinden)
X-ORGANIZER:
STATUS:CONFIRMED
CLASS:PUBLIC
DTSTART:20260520T180000Z
DTEND:20260520T180000Z
DTSTAMP:20260424T144315Z
CREATED:20260423T162217Z
LAST-MODIFIED:20260423T162319Z
END:VEVENT
END:VCALENDAR
